BEGIN:VCALENDAR
VERSION:2.0
PRODID:-//bond-lexikon.de//NONSGML 2026-04-25 Konzert//DE
BEGIN:VEVENT
UID:cbde1771-d64b-485a-a31a-d11aa15ce752
DTSTAMP:20251225T133100Z
DTSTART:20260425T140000Z
DTEND:20260425T160000Z
SUMMARY:James Bond 007 – Das Konzert
LOCATION:Jahrhunderthalle Frankfurt, Kuppelsaal
DESCRIPTION:Präsentiert von einem Gaststar aus den Filmen
END:VEVENT
END:VCALENDAR