BEGIN:VCALENDAR
VERSION:2.0
PRODID:-//bond-lexikon.de//NONSGML 2026-05-30 Hoffnung//DE
BEGIN:VEVENT
UID:1dc611c2-d046-4e0d-a099-3ded6c9f0295
DTSTAMP:20260215T002300Z
DTSTART:20260530T180000Z
DTEND:20260530T200000Z
SUMMARY:Mr. Bond – Die Hoffnung stirbt zuletzt
LOCATION:Theater Heilbronn, Salon3
DESCRIPTION:Musik-Comedy mit Markus Herzer und Markus Streubel
END:VEVENT
END:VCALENDAR