BEGIN:VCALENDAR
VERSION:2.0
PRODID:-//bond-lexikon.de//NONSGML 2026-06-07 TSWLM//DE
BEGIN:VEVENT
UID:92255a0d-25af-4c8b-82d0-01bf6347efe4
DTSTAMP:20251226T115800Z
DTSTART:20260607T170000Z
DTEND:20260607T193000Z
SUMMARY:Der Spion, der mich liebte
LOCATION:Regina Kino St. Ingbert
DESCRIPTION:Deutsch, 2D
END:VEVENT
END:VCALENDAR