BEGIN:VCALENDAR
VERSION:2.0
PRODID:-//bond-lexikon.de//NONSGML 2026-07-07 MR//DE
BEGIN:VEVENT
UID:d9c9daa9-2564-403c-b37e-95b7c7163313
DTSTAMP:20251226T120100Z
DTSTART:20260707T170000Z
DTEND:20260707T193000Z
SUMMARY:Moonraker – Streng geheim
LOCATION:Regina Kino St. Ingbert
DESCRIPTION:Deutsch, 2D
END:VEVENT
END:VCALENDAR