BEGIN:VCALENDAR
VERSION:2.0
PRODID:-//bond-lexikon.de//NONSGML 2026-07-17 Sound//DE
BEGIN:VEVENT
UID:78f7d26a-f3fa-428a-9c61-de8640423b4b
DTSTAMP:20251225T120800Z
DTSTART:20260717T193000Z
DTEND:20260717T213000Z
SUMMARY:The Sound of James Bond
LOCATION:Schloss St. Emmeram, Regensburg
DESCRIPTION:Orchester, Band und Solisten; Moderation: Dietmar Wunder
END:VEVENT
END:VCALENDAR