BEGIN:VCALENDAR
VERSION:2.0
PRODID:-//bond-lexikon.de//NONSGML 2026-09-07 OP//DE
BEGIN:VEVENT
UID:ef269a56-b861-43d0-9a59-47252de9e4dd
DTSTAMP:20251226T120500Z
DTSTART:20260907T170000Z
DTEND:20260907T193000Z
SUMMARY:Octopussy
LOCATION:Regina Kino St. Ingbert
DESCRIPTION:Deutsch, 2D
END:VEVENT
END:VCALENDAR