BEGIN:VCALENDAR
VERSION:2.0
PRODID:-//bond-lexikon.de//NONSGML 2026-10-01 LadyBOND//DE
BEGIN:VEVENT
UID:aa46426b-8057-4b6a-902a-507ec223def3
DTSTAMP:20260215T010800Z
DTSTART:20261001T180000Z
DTEND:20261001T200000Z
SUMMARY:Konzert „Golden Bond Songs“
LOCATION:Casa Una, Bad Kreuznach
DESCRIPTION:LadyBOND Solo, ein James-Bond-Konzert im Geheimdienst Ihrer Majestät
END:VEVENT
END:VCALENDAR