BEGIN:VCALENDAR
VERSION:2.0
PRODID:-//bond-lexikon.de//NONSGML 2026-10-07 NSNA//DE
BEGIN:VEVENT
UID:614692e5-0aeb-4345-9d3d-5a5232cd467d
DTSTAMP:20251226T121200Z
DTSTART:20261007T170000Z
DTEND:20261007T194500Z
SUMMARY:Sag niemals nie
LOCATION:Regina Kino St. Ingbert
DESCRIPTION:Deutsch, 2D
END:VEVENT
END:VCALENDAR