BEGIN:VCALENDAR
VERSION:2.0
PRODID:-//bond-lexikon.de//NONSGML 2026-10-30 SP//DE
BEGIN:VEVENT
UID:d2eb8c15-f3f8-44ee-9baa-49bd91793eac
DTSTAMP:20260215T004000Z
DTSTART:20261030T183000Z
DTEND:20261030T213000Z
SUMMARY:Spectre – In Concert
LOCATION:Kultur- und Kongresszentrum Luzern, Konzertsaal
DESCRIPTION:City Light Symphony Orchestra, Leitung: Kevin Griffiths
END:VEVENT
END:VCALENDAR