BEGIN:VCALENDAR
VERSION:2.0
PRODID:-//bond-lexikon.de//NONSGML 2026-11-07 AVTAK//DE
BEGIN:VEVENT
UID:ab99f59d-3b84-4b02-af99-71d6aab4d877
DTSTAMP:20251226T121500Z
DTSTART:20261107T180000Z
DTEND:20261107T203000Z
SUMMARY:Im Angesicht des Todes
LOCATION:Regina Kino St. Ingbert
DESCRIPTION:Deutsch, 2D
END:VEVENT
END:VCALENDAR