BEGIN:VCALENDAR
VERSION:2.0
PRODID:-//bond-lexikon.de//NONSGML 2026-11-28 Sound//DE
BEGIN:VEVENT
UID:cb3d1d44-924f-4d29-88c7-e1a61065f73a
DTSTAMP:20251226T110800Z
DTSTART:20261128T183000Z
DTEND:20261128T210000Z
SUMMARY:The Sound of James Bond
LOCATION:Kultur- und Kongresszentrum Luzern, Konzertsaal
DESCRIPTION:Orchester, Band und Solisten; Moderation: Dietmar Wunder
END:VEVENT
END:VCALENDAR