BEGIN:VCALENDAR
VERSION:2.0
PRODID:-//bond-lexikon.de//NONSGML 2026-11-29 Sound//DE
BEGIN:VEVENT
UID:5aa747ae-d560-4613-8394-1341a4a28b6f
DTSTAMP:20251226T111700Z
DTSTART:20261129T173000Z
DTEND:20261129T200000Z
SUMMARY:The Sound of James Bond
LOCATION:Kultur- und Kongresszentrum Luzern, Konzertsaal
DESCRIPTION:Orchester, Band und Solisten; Moderation: Dietmar Wunder
END:VEVENT
END:VCALENDAR