BEGIN:VCALENDAR
VERSION:2.0
PRODID:-//bond-lexikon.de//NONSGML 2026-12-07 TLD//DE
BEGIN:VEVENT
UID:c9e503ba-3398-4c6b-9068-66328daee8b1
DTSTAMP:20251226T121800Z
DTSTART:20261207T180000Z
DTEND:20261207T203000Z
SUMMARY:Der Hauch des Todes
LOCATION:Regina Kino St. Ingbert
DESCRIPTION:Deutsch, 2D
END:VEVENT
END:VCALENDAR