BEGIN:VCALENDAR
VERSION:2.0
PRODID:-//bond-lexikon.de//NONSGML 2027-01-07 LTK//DE
BEGIN:VEVENT
UID:9e634364-e82b-4860-ab68-c085fc505952
DTSTAMP:20251226T122300Z
DTSTART:20270107T180000Z
DTEND:20270107T203000Z
SUMMARY:Lizenz zum Töten
LOCATION:Regina Kino St. Ingbert
DESCRIPTION:Deutsch, 2D
END:VEVENT
END:VCALENDAR