BEGIN:VCALENDAR
VERSION:2.0
PRODID:-//bond-lexikon.de//NONSGML 2027-02-07 GE//DE
BEGIN:VEVENT
UID:1dea48d0-08fe-46b1-9bb7-1fa92c72554f
DTSTAMP:20251226T122500Z
DTSTART:20270207T180000Z
DTEND:20270207T203000Z
SUMMARY:GoldenEye
LOCATION:Regina Kino St. Ingbert
DESCRIPTION:Deutsch, 2D
END:VEVENT
END:VCALENDAR