BEGIN:VCALENDAR
VERSION:2.0
PRODID:-//bond-lexikon.de//NONSGML 2027-03-07 TND//DE
BEGIN:VEVENT
UID:921ab166-78f8-460e-8b62-861acf4b6a99
DTSTAMP:20251226T122700Z
DTSTART:20270307T180000Z
DTEND:20270307T203000Z
SUMMARY:Der Morgen stirbt nie
LOCATION:Regina Kino St. Ingbert
DESCRIPTION:Deutsch, 2D
END:VEVENT
END:VCALENDAR