BEGIN:VCALENDAR
VERSION:2.0
PRODID:-//bond-lexikon.de//NONSGML 2027-04-07 TWINE//DE
BEGIN:VEVENT
UID:ad78d27f-4f7e-4a16-9411-8020f117250c
DTSTAMP:20251226T123000Z
DTSTART:20270407T170000Z
DTEND:20270407T193000Z
SUMMARY:Die Welt ist nicht genug
LOCATION:Regina Kino St. Ingbert
DESCRIPTION:Deutsch, 2D
END:VEVENT
END:VCALENDAR