BEGIN:VCALENDAR
VERSION:2.0
PRODID:-//bond-lexikon.de//NONSGML 2027-05-07 DAD//DE
BEGIN:VEVENT
UID:49fbb482-e780-4eee-9ca5-5ad7fda329ae
DTSTAMP:20251226T123200Z
DTSTART:20270507T170000Z
DTEND:20270507T193000Z
SUMMARY:Stirb an einem anderen Tag
LOCATION:Regina Kino St. Ingbert
DESCRIPTION:Deutsch, 2D
END:VEVENT
END:VCALENDAR