BEGIN:VCALENDAR
VERSION:2.0
PRODID:-//bond-lexikon.de//NONSGML 2027-06-07 CR//DE
BEGIN:VEVENT
UID:cbfdadd6-e093-4bcb-bec6-57d0b0507761
DTSTAMP:20251226T123400Z
DTSTART:20270607T170000Z
DTEND:20270607T194500Z
SUMMARY:Stirb an einem anderen Tag
LOCATION:Regina Kino St. Ingbert
DESCRIPTION:Deutsch, 2D
END:VEVENT
END:VCALENDAR