BEGIN:VCALENDAR
VERSION:2.0
PRODID:-//bond-lexikon.de//NONSGML 2027-08-07 SF//DE
BEGIN:VEVENT
UID:8f1774df-7a10-499b-ae88-cf11b1e476ef
DTSTAMP:20251226T123900Z
DTSTART:20270807T170000Z
DTEND:20270807T194500Z
SUMMARY:Skyfall
LOCATION:Regina Kino St. Ingbert
DESCRIPTION:Deutsch, 2D
END:VEVENT
END:VCALENDAR