BEGIN:VCALENDAR
VERSION:2.0
PRODID:-//bond-lexikon.de//NONSGML 2027-09-07 SP//DE
BEGIN:VEVENT
UID:b365197e-c703-4bfa-ac7e-836ad2d1e7e6
DTSTAMP:20251226T124200Z
DTSTART:20270907T170000Z
DTEND:20270907T194500Z
SUMMARY:Spectre
LOCATION:Regina Kino St. Ingbert
DESCRIPTION:Deutsch, 2D
END:VEVENT
END:VCALENDAR